BEGIN:VCALENDAR
VERSION:2.0
METHOD:PUBLISH
X-WR-CALNAME;VALUE=TEXT:Eseménynaptár - Béla
PRODID:-//Drupal iCal API//EN
BEGIN:VEVENT
UID: 0198353e-611b-4b3e-b71f-965fe1a8ceec
SUMMARY: Hálából
DTSTAMP: 20230512T162236Z
DTSTART:  20230514T090000Z
END:VEVENT
BEGIN:VEVENT
UID: 7056aa25-45b3-49bd-a1d8-0e2a32219c88
SUMMARY: Szentgyónási lehetőség
DTSTAMP: 20230512T162521Z
DTSTART:  20230516T153000Z
END:VEVENT
BEGIN:VEVENT
UID: 4c2cec2d-208e-4654-902e-2b728e6c82c4
SUMMARY: Szentmise
DTSTAMP: 20230512T162605Z
DTSTART:  20230516T160000Z
END:VEVENT
BEGIN:VEVENT
UID: 71b4c10d-98b5-4126-9bbd-adc9e9297a4a
SUMMARY: Szentségimádás és szentgyónási lehetőség
DTSTAMP: 20230512T162821Z
DTSTART:  20230518T150000Z
END:VEVENT
BEGIN:VEVENT
UID: 867b0ad1-b5ad-44b1-a90b-d134c5bfd53c
SUMMARY: Pro populo - a népért
DTSTAMP: 20230512T162858Z
DTSTART:  20230518T160000Z
END:VEVENT
BEGIN:VEVENT
UID: 59cb429b-64c5-4623-8ba5-57a95b4fa42b
SUMMARY: Májusi litániák
DTSTAMP: 20230520T231022Z
DTSTART:  20230519T220000Z
END:VEVENT
BEGIN:VEVENT
UID: 8b5a879e-082b-4c68-9976-25a97e30e933
SUMMARY: Szentgyónási lehetőség
DTSTAMP: 20230512T163013Z
DTSTART:  20230520T043000Z
END:VEVENT
BEGIN:VEVENT
UID: 2d67af8d-ecfa-4304-919f-6da349b4847b
SUMMARY: Szentmise
DTSTAMP: 20230512T163044Z
DTSTART:  20230520T050000Z
END:VEVENT
BEGIN:VEVENT
UID: 1f5d405b-dd74-457a-a580-5c6d42b482c4
SUMMARY: ✝ Kálmán Ferenc és fia Ferenc
DTSTAMP: 20230518T113008Z
DTSTART:  20230521T090000Z
END:VEVENT
BEGIN:VEVENT
UID: cd10a17c-5146-4bf9-8c82-1dd7c39a0d44
SUMMARY: ✝ Kálmán Ferenc és fia Ferenc
DTSTAMP: 20230512T163358Z
DTSTART:  20230521T090000Z
END:VEVENT
END:VCALENDAR
